BEGIN:VCALENDAR
VERSION:2.0
PRODID:-//Squarespace Inc/Squarespace 6//v6//EN
BEGIN:VEVENT
UID:5c554a75f4e1fcbafcc1c87a@squarespace.com
DTSTAMP:20190202T083900Z
DTSTART:20190220T093000Z
DTEND:20190220T113000Z
SUMMARY:BAH - Plantagenet Wines
GEO:-34.621585;117.662327
LOCATION:Plantagenet Wines\, 1 Albany Hwy\, Mt Barker\, Au
END:VEVENT
END:VCALENDAR
