BEGIN:VCALENDAR
VERSION:2.0
PRODID:-//Squarespace Inc/Squarespace 6//v6//EN
BEGIN:VEVENT
UID:5c554780ec212d2d5a94f31d@squarespace.com
DTSTAMP:20190202T123021Z
DTSTART:20190207T093000Z
DTEND:20190207T113000Z
SUMMARY:Denmark Chamber of Commerce - BAH
GEO:-34.992046;117.870286
LOCATION:32 Newbey Street\, Milpara\, WA\, 6330\, Australia
END:VEVENT
END:VCALENDAR
