BEGIN:VCALENDAR
VERSION:2.0
PRODID:-//Squarespace Inc/Squarespace 6//v6//EN
BEGIN:VEVENT
UID:5c75a5c1ee6eb02ae9382bcb@squarespace.com
DTSTAMP:20190226T205200Z
DTSTART:20190320T093000Z
DTEND:20190320T113000Z
SUMMARY:March BAH 2019
GEO:-35.017906;117.87963
LOCATION:HEAD TO TAIL PETS\, 134 Albany Highway\, Centennial Park\, WA\, 63
 30\, Australia
END:VEVENT
END:VCALENDAR
