BEGIN:VCALENDAR
VERSION:2.0
PRODID:-//Squarespace Inc/Squarespace 6//v6//EN
BEGIN:VEVENT
UID:5c554c89eef1a1fa4e02fae8@squarespace.com
DTSTAMP:20190203T032043Z
DTSTART:20190308T003000Z
DTEND:20190308T093000Z
SUMMARY:Women's Leadership Forum
GEO:-35.004891;117.85364
LOCATION:Beryl Grant Community Centre\, 15 Townsend Street\, Lockyer\, Alba
 ny\, Australia
END:VEVENT
END:VCALENDAR
